BEGIN:VCALENDAR
VERSION:2.0
PRODID:-//Luftsportverein Bad Lauterberg e.V. - ECPv6.2.2//NONSGML v1.0//EN
CALSCALE:GREGORIAN
METHOD:PUBLISH
X-ORIGINAL-URL:https://modellflug-badlauterberg.de
X-WR-CALDESC:Veranstaltungen für Luftsportverein Bad Lauterberg e.V.
REFRESH-INTERVAL;VALUE=DURATION:PT1H
X-Robots-Tag:noindex
X-PUBLISHED-TTL:PT1H
BEGIN:VTIMEZONE
TZID:Europe/Berlin
BEGIN:DAYLIGHT
TZOFFSETFROM:+0100
TZOFFSETTO:+0200
TZNAME:CEST
DTSTART:20240331T010000
END:DAYLIGHT
BEGIN:STANDARD
TZOFFSETFROM:+0200
TZOFFSETTO:+0100
TZNAME:CET
DTSTART:20241027T010000
END:STANDARD
END:VTIMEZONE
BEGIN:VEVENT
DTSTART;TZID=Europe/Berlin:20241106T180000
DTEND;TZID=Europe/Berlin:20241106T200000
DTSTAMP:20260420T182511
CREATED:20240107T130443Z
LAST-MODIFIED:20240107T130443Z
UID:1487-1730916000-1730923200@modellflug-badlauterberg.de
SUMMARY:Alle 14 Tage Mittwochs Indoorfliegen in der KGS-Halle (weitere Infos folgen)
DESCRIPTION:
URL:https://modellflug-badlauterberg.de/event/alle-14-tage-mittwochs-indoorfliegen-in-der-kgs-halle-weitere-infos-folgen/
END:VEVENT
END:VCALENDAR