BEGIN:VCALENDAR
VERSION:2.0
PRODID:-//Luftsportverein Bad Lauterberg e.V. - ECPv6.2.2//NONSGML v1.0//EN
CALSCALE:GREGORIAN
METHOD:PUBLISH
X-ORIGINAL-URL:https://modellflug-badlauterberg.de
X-WR-CALDESC:Veranstaltungen für Luftsportverein Bad Lauterberg e.V.
REFRESH-INTERVAL;VALUE=DURATION:PT1H
X-Robots-Tag:noindex
X-PUBLISHED-TTL:PT1H
BEGIN:VTIMEZONE
TZID:Europe/Berlin
BEGIN:DAYLIGHT
TZOFFSETFROM:+0100
TZOFFSETTO:+0200
TZNAME:CEST
DTSTART:20250330T010000
END:DAYLIGHT
BEGIN:STANDARD
TZOFFSETFROM:+0200
TZOFFSETTO:+0100
TZNAME:CET
DTSTART:20251026T010000
END:STANDARD
END:VTIMEZONE
BEGIN:VEVENT
DTSTART;TZID=Europe/Berlin:20250518T100000
DTEND;TZID=Europe/Berlin:20250518T170000
DTSTAMP:20260420T103404
CREATED:20250127T160232Z
LAST-MODIFIED:20250127T160232Z
UID:1877-1747562400-1747587600@modellflug-badlauterberg.de
SUMMARY:1. & 2. Motorflug Wettbewerb G. Lange - Pokal\, Scharzfeld
DESCRIPTION:
URL:https://modellflug-badlauterberg.de/event/1-2-motorflug-wettbewerb-g-lange-pokal-scharzfeld/
END:VEVENT
END:VCALENDAR