BEGIN:VCALENDAR
VERSION:2.0
PRODID:-//Luftsportverein Bad Lauterberg e.V. - ECPv6.2.2//NONSGML v1.0//EN
CALSCALE:GREGORIAN
METHOD:PUBLISH
X-WR-CALNAME:Luftsportverein Bad Lauterberg e.V.
X-ORIGINAL-URL:https://modellflug-badlauterberg.de
X-WR-CALDESC:Veranstaltungen für Luftsportverein Bad Lauterberg e.V.
REFRESH-INTERVAL;VALUE=DURATION:PT1H
X-Robots-Tag:noindex
X-PUBLISHED-TTL:PT1H
BEGIN:VTIMEZONE
TZID:Europe/Berlin
BEGIN:DAYLIGHT
TZOFFSETFROM:+0100
TZOFFSETTO:+0200
TZNAME:CEST
DTSTART:20240331T010000
END:DAYLIGHT
BEGIN:STANDARD
TZOFFSETFROM:+0200
TZOFFSETTO:+0100
TZNAME:CET
DTSTART:20241027T010000
END:STANDARD
END:VTIMEZONE
BEGIN:VEVENT
DTSTART;TZID=Europe/Berlin:20241027T100000
DTEND;TZID=Europe/Berlin:20241027T170000
DTSTAMP:20260420T182150
CREATED:20240107T130258Z
LAST-MODIFIED:20240827T174708Z
UID:1483-1730023200-1730048400@modellflug-badlauterberg.de
SUMMARY:Abfliegen
DESCRIPTION:
URL:https://modellflug-badlauterberg.de/event/abliegen/
END:VEVENT
END:VCALENDAR