BEGIN:VCALENDAR
VERSION:2.0
PRODID:-//Luftsportverein Bad Lauterberg e.V. - ECPv6.2.2//NONSGML v1.0//EN
CALSCALE:GREGORIAN
METHOD:PUBLISH
X-WR-CALNAME:Luftsportverein Bad Lauterberg e.V.
X-ORIGINAL-URL:https://modellflug-badlauterberg.de
X-WR-CALDESC:Veranstaltungen für Luftsportverein Bad Lauterberg e.V.
REFRESH-INTERVAL;VALUE=DURATION:PT1H
X-Robots-Tag:noindex
X-PUBLISHED-TTL:PT1H
BEGIN:VTIMEZONE
TZID:Europe/Berlin
BEGIN:DAYLIGHT
TZOFFSETFROM:+0100
TZOFFSETTO:+0200
TZNAME:CEST
DTSTART:20250330T010000
END:DAYLIGHT
BEGIN:STANDARD
TZOFFSETFROM:+0200
TZOFFSETTO:+0100
TZNAME:CET
DTSTART:20251026T010000
END:STANDARD
END:VTIMEZONE
BEGIN:VEVENT
DTSTART;TZID=Europe/Berlin:20250914T100000
DTEND;TZID=Europe/Berlin:20250914T170000
DTSTAMP:20260420T114942
CREATED:20250127T160921Z
LAST-MODIFIED:20250127T160921Z
UID:1894-1757844000-1757869200@modellflug-badlauterberg.de
SUMMARY:Motorflug VM - Wettbewerb\, Scharzfeld (Ausweichtermin)
DESCRIPTION:
URL:https://modellflug-badlauterberg.de/event/motorflug-vm-wettbewerb-scharzfeld-ausweichtermin/
END:VEVENT
BEGIN:VEVENT
DTSTART;TZID=Europe/Berlin:20250920T120000
DTEND;TZID=Europe/Berlin:20250920T170000
DTSTAMP:20260420T114942
CREATED:20240107T124521Z
LAST-MODIFIED:20250913T144727Z
UID:1463-1758369600-1758387600@modellflug-badlauterberg.de
SUMMARY:Retrotreffen
DESCRIPTION:
URL:https://modellflug-badlauterberg.de/event/retrotreffen-mit-freunden/
END:VEVENT
END:VCALENDAR